BEGIN:VCALENDAR
VERSION:2.0
PRODID:icalendar-ruby
CALSCALE:GREGORIAN
METHOD:PUBLISH
BEGIN:VEVENT
DTSTAMP:20260419T205911Z
UID:9-785549@crawfordfbc.org
DTSTART:20260909T233000Z
DTEND:20260910T003000Z
CLASS:PUBLIC
CREATED:20260419T142040
DESCRIPTION:For students grades 6-12th\, come MEET UP with Jesus and each o
 ther at the church at 6:20p when we start worship!
LAST-MODIFIED:20260419T142040
LOCATION:
SUMMARY:MTUP
URL;VALUE=URI:https://www.crawfordfbc.org/events/mtup/2026-09-09
ATTACH;FILENAME=IMG_2022-12-17-204359.PNG;FMTTYPE=image/png:https://dq5pwpg
 1q8ru0.cloudfront.net/2023/02/06/11/56/50/5b40367d-d22e-4a70-a117-8e10314f
 6482/IMG_2022-12-17-204359.PNG
END:VEVENT
END:VCALENDAR
